BEGIN:VCALENDAR
VERSION:2.0
PRODID:SchoolNow
CALSCALE:GREGORIAN
BEGIN:VEVENT
UID:3e490a1a-f5e9-11eb-8e28-02efefa54b73
DTSTAMP:20210920T132800Z
SUMMARY:School Committee Meeting - REMOTE MEETING ONLINE - CANCELLED
URL;VALUE=URI:https://www.norwood.k12.ma.us/sc/calendar/2655560/school-comm
 ittee-meeting-location-tbd
DTSTART:20211020T230000Z
DTEND:20211021T000000Z
END:VEVENT
END:VCALENDAR
