BEGIN:VCALENDAR
VERSION:2.0
PRODID:SchoolNow
CALSCALE:GREGORIAN
BEGIN:VEVENT
UID:d8497494-f5ec-11eb-8ba7-0a4c584a8ccf
DTSTAMP:20210902T193009Z
SUMMARY:School Committee Meeting - REMOTE MEETING ONLINE
URL;VALUE=URI:https://www.norwood.k12.ma.us/sc/calendar/2655562/school-comm
 ittee-meeting-location-tbd
DTSTART:20211118T000000Z
DTEND:20211118T010000Z
END:VEVENT
END:VCALENDAR
