BEGIN:VCALENDAR
VERSION:2.0
PRODID:SchoolNow
CALSCALE:GREGORIAN
BEGIN:VEVENT
UID:e91c884c-f5ec-11eb-87cb-0a4c584a8ccf
DTSTAMP:20210902T193015Z
SUMMARY:School Committee Meeting - REMOTE MEETING ONLINE
URL;VALUE=URI:https://www.norwood.k12.ma.us/sc/calendar/2655564/school-comm
 ittee-meeting-location-tbd
DTSTART:20211202T000000Z
DTEND:20211202T010000Z
END:VEVENT
END:VCALENDAR
