BEGIN:VCALENDAR
VERSION:2.0
PRODID:SchoolNow
CALSCALE:GREGORIAN
BEGIN:VEVENT
UID:f5a50c38-f5ec-11eb-a0e3-0a4c584a8ccf
DTSTAMP:20210902T193023Z
SUMMARY:School Committee Meeting - REMOTE MEETING ONLINE
URL;VALUE=URI:https://www.norwood.k12.ma.us/sc/calendar/2655566/school-comm
 ittee-meeting-location-tbd
DTSTART:20211216T000000Z
DTEND:20211216T010000Z
END:VEVENT
END:VCALENDAR
