BEGIN:VCALENDAR
VERSION:2.0
PRODID:SchoolNow
CALSCALE:GREGORIAN
BEGIN:VEVENT
UID:0afc6e50-f5ed-11eb-a5c4-0a4c584a8ccf
DTSTAMP:20220106T203845Z
SUMMARY:School Committee Meeting - REMOTE MEETING ONLINE
URL;VALUE=URI:https://www.norwood.k12.ma.us/sc/calendar/2655568/school-comm
 ittee-meeting-location-tbd
DTSTART:20220113T000000Z
DTEND:20220113T010000Z
END:VEVENT
END:VCALENDAR
