BEGIN:VCALENDAR
VERSION:2.0
PRODID:SchoolNow
CALSCALE:GREGORIAN
BEGIN:VEVENT
UID:1b065540-f5ed-11eb-89a0-0a4c584a8ccf
DTSTAMP:20220106T203855Z
SUMMARY:School Committee Meeting - REMOTE MEETING ONLINE
URL;VALUE=URI:https://www.norwood.k12.ma.us/sc/calendar/2655570/school-comm
 ittee-meeting-location-tbd
DTSTART:20220127T000000Z
DTEND:20220127T010000Z
END:VEVENT
END:VCALENDAR
