BEGIN:VCALENDAR
VERSION:2.0
PRODID:SchoolNow
CALSCALE:GREGORIAN
BEGIN:VEVENT
UID:39fbf6ee-f5ed-11eb-a4f1-0a4c584a8ccf
DTSTAMP:20220214T131415Z
SUMMARY:School Committee Meeting - REMOTE MEETING ONLINE - CHANGE TO START 
 TIME OF MEETING
URL;VALUE=URI:https://www.norwood.k12.ma.us/sc/calendar/2655574/school-comm
 ittee-meeting-location-tbd
DTSTART:20220216T234500Z
DTEND:20220217T004500Z
END:VEVENT
END:VCALENDAR
