BEGIN:VCALENDAR
VERSION:2.0
PRODID:SchoolNow
CALSCALE:GREGORIAN
BEGIN:VEVENT
UID:4b86eb94-f5ed-11eb-b9b2-0a4c584a8ccf
DTSTAMP:20220228T141015Z
SUMMARY:School Committee Meeting - REMOTE MEETING ONLINE - NOTE Start Time 
 Change
URL;VALUE=URI:https://www.norwood.k12.ma.us/sc/calendar/2655576/school-comm
 ittee-meeting-location-tbd
DTSTART:20220309T234500Z
DTEND:20220310T004500Z
END:VEVENT
END:VCALENDAR
