BEGIN:VCALENDAR
VERSION:2.0
PRODID:SchoolNow
CALSCALE:GREGORIAN
BEGIN:VEVENT
UID:6c945114-f5ed-11eb-bb69-0a4c584a8ccf
DTSTAMP:20220310T155219Z
SUMMARY:School Committee Meeting - Hybrid Meeting/In Person at Savage Cente
 r - see Schedule page for details
URL;VALUE=URI:https://www.norwood.k12.ma.us/sc/calendar/2655580/school-comm
 ittee-meeting-location-tbd
DTSTART:20220406T230000Z
DTEND:20220407T000000Z
END:VEVENT
END:VCALENDAR
