BEGIN:VCALENDAR
VERSION:2.0
PRODID:SchoolNow
CALSCALE:GREGORIAN
BEGIN:VEVENT
UID:8a46f1da-f5ed-11eb-981b-0a4c584a8ccf
DTSTAMP:20220310T155245Z
SUMMARY:School Committee Meeting - Hybrid Meeting/In Person at Savage Cente
 r - see Schedule page for details
URL;VALUE=URI:https://www.norwood.k12.ma.us/sc/calendar/2655584/school-comm
 ittee-meeting-location-tbd
DTSTART:20220504T230000Z
DTEND:20220505T000000Z
END:VEVENT
END:VCALENDAR
