BEGIN:VCALENDAR
VERSION:2.0
PRODID:SchoolNow
CALSCALE:GREGORIAN
BEGIN:VEVENT
UID:985a3142-f5ed-11eb-9e88-0a4c584a8ccf
DTSTAMP:20220517T131122Z
SUMMARY:School Committee Meeting - REMOTE MEETING ONLINE - see Schedule pag
 e for details
URL;VALUE=URI:https://www.norwood.k12.ma.us/sc/calendar/2655586/school-comm
 ittee-meeting-location-tbd
DTSTART:20220518T233000Z
DTEND:20220519T003000Z
END:VEVENT
END:VCALENDAR
