BEGIN:VCALENDAR
VERSION:2.0
PRODID:SchoolNow
CALSCALE:GREGORIAN
BEGIN:VEVENT
UID:a5c8fa98-f5ed-11eb-a480-0a4c584a8ccf
DTSTAMP:20220601T124544Z
SUMMARY:School Committee Meeting - UPDATE - MEETING IS REMOTE - see Schedul
 e page for details
URL;VALUE=URI:https://www.norwood.k12.ma.us/sc/calendar/2655588/school-comm
 ittee-meeting-location-tbd
DTSTART:20220601T231500Z
DTEND:20220602T001500Z
END:VEVENT
END:VCALENDAR
