BEGIN:VCALENDAR
VERSION:2.0
PRODID:SchoolNow
CALSCALE:GREGORIAN
BEGIN:VEVENT
UID:fa43e42c-ff55-11eb-9941-022547f589a1
DTSTAMP:20210817T122400Z
SUMMARY:School Committee Budget Sub Committee Meeting - REMOTE MEETING ONLI
 NE
URL;VALUE=URI:https://www.norwood.k12.ma.us/sc/calendar/2675352/school-comm
 ittee-budget-sub-committee-meeting-remote-meeting-online
DTSTART:20210819T143000Z
DTEND:20210819T153000Z
END:VEVENT
END:VCALENDAR
