BEGIN:VCALENDAR
VERSION:2.0
PRODID:SchoolNow
CALSCALE:GREGORIAN
BEGIN:VEVENT
UID:e2aab966-09a6-11ec-b64b-02eb2cde1f61
DTSTAMP:20210830T152811Z
SUMMARY:School Committee - Executive Session - REMOTE MEETING ONLINE
URL;VALUE=URI:https://www.norwood.k12.ma.us/sc/calendar/2694364/school-comm
 ittee-executive-session-remote-meeting-online
DTSTART:20210901T230000Z
DTEND:20210901T233000Z
END:VEVENT
END:VCALENDAR
