BEGIN:VCALENDAR
VERSION:2.0
PRODID:SchoolNow
CALSCALE:GREGORIAN
BEGIN:VEVENT
UID:6959527c-1a16-11ec-94f4-0a620626a7a7
DTSTAMP:20210920T132709Z
SUMMARY:School Committee Audit Focus Group - REMOTE MEETING ONLINE
URL;VALUE=URI:https://www.norwood.k12.ma.us/sc/calendar/2749989/school-comm
 ittee-audit-focus-group
DTSTART:20210929T220000Z
DTEND:20210929T230000Z
END:VEVENT
END:VCALENDAR
