BEGIN:VCALENDAR
VERSION:2.0
PRODID:SchoolNow
CALSCALE:GREGORIAN
BEGIN:VEVENT
UID:89be90d6-1a16-11ec-9243-0a620626a7a7
DTSTAMP:20210920T132744Z
SUMMARY:School Committee Workshop - REMOTE MEETING ONLINE
URL;VALUE=URI:https://www.norwood.k12.ma.us/sc/calendar/2749991/school-comm
 ittee-workshop-remote-meeting-online
DTSTART:20210929T230000Z
DTEND:20210930T000000Z
END:VEVENT
END:VCALENDAR
