BEGIN:VCALENDAR
VERSION:2.0
PRODID:SchoolNow
CALSCALE:GREGORIAN
BEGIN:VEVENT
UID:a0ad034a-1a16-11ec-8d64-0a620626a7a7
DTSTAMP:20210920T132822Z
SUMMARY:School Committee Meeting - REMOTE MEETING ONLINE
URL;VALUE=URI:https://www.norwood.k12.ma.us/sc/calendar/2749993/school-comm
 ittee-meeting-remote-meeting-online
DTSTART:20211027T230000Z
DTEND:20211028T000000Z
END:VEVENT
END:VCALENDAR
