BEGIN:VCALENDAR
VERSION:2.0
PRODID:SchoolNow
CALSCALE:GREGORIAN
BEGIN:VEVENT
UID:c7319056-1b9e-11ec-a2c0-0ee1f8c68f8f
DTSTAMP:20210922T121530Z
SUMMARY:School Committee Middle School Building Public Forum - REMOTE MEETI
 NG ONLINE
URL;VALUE=URI:https://www.norwood.k12.ma.us/sc/calendar/2755367/school-comm
 ittee-middle-school-building-public-forum-remote-meeting-online
DTSTART:20210923T230000Z
DTEND:20210924T000000Z
END:VEVENT
END:VCALENDAR
