BEGIN:VCALENDAR
VERSION:2.0
PRODID:SchoolNow
CALSCALE:GREGORIAN
BEGIN:VEVENT
UID:c3fa4eba-22b4-11ec-ac62-0e63cba66a77
DTSTAMP:20211001T124031Z
SUMMARY:School Committee Budget Sub Committee Meeting - REMOTE MEETING ONLI
 NE
URL;VALUE=URI:https://www.norwood.k12.ma.us/sc/calendar/2782461/school-comm
 ittee-budget-sub-committee-meeting-remote-meeting-online
DTSTART:20211005T170000Z
DTEND:20211005T180000Z
END:VEVENT
END:VCALENDAR
