BEGIN:VCALENDAR
VERSION:2.0
PRODID:SchoolNow
CALSCALE:GREGORIAN
BEGIN:VEVENT
UID:d09017ea-22b4-11ec-93f1-0e63cba66a77
DTSTAMP:20211001T124053Z
SUMMARY:School Committee Budget Sub Committee Meeting - REMOTE MEETING ONLI
 NE
URL;VALUE=URI:https://www.norwood.k12.ma.us/sc/calendar/2782463/school-comm
 ittee-budget-sub-committee-meeting-remote-meeting-online
DTSTART:20211018T193000Z
DTEND:20211018T203000Z
END:VEVENT
END:VCALENDAR
