BEGIN:VCALENDAR
VERSION:2.0
PRODID:SchoolNow
CALSCALE:GREGORIAN
BEGIN:VEVENT
UID:dfd728f6-22b4-11ec-849d-0e63cba66a77
DTSTAMP:20211001T124118Z
SUMMARY:School Committee Budget Sub Committee Meeting - REMOTE MEETING ONLI
 NE
URL;VALUE=URI:https://www.norwood.k12.ma.us/sc/calendar/2782465/school-comm
 ittee-budget-sub-committee-meeting-remote-meeting-online
DTSTART:20211108T203000Z
DTEND:20211108T213000Z
END:VEVENT
END:VCALENDAR
