BEGIN:VCALENDAR
VERSION:2.0
PRODID:SchoolNow
CALSCALE:GREGORIAN
BEGIN:VEVENT
UID:ef78a714-2b63-11ec-840d-0a685e8ec0e5
DTSTAMP:20211012T135436Z
SUMMARY:School Committee Policy Sub Committee Meeting - REMOTE MEETING ONLI
 NE
URL;VALUE=URI:https://www.norwood.k12.ma.us/sc/calendar/2809021/school-comm
 ittee-policy-sub-committee-meeting-remote-meeting-online
DTSTART:20211108T180000Z
DTEND:20211108T190000Z
END:VEVENT
END:VCALENDAR
