BEGIN:VCALENDAR
VERSION:2.0
PRODID:SchoolNow
CALSCALE:GREGORIAN
BEGIN:VEVENT
UID:c46449de-366c-11ec-8071-0e02e5758b77
DTSTAMP:20211026T145532Z
SUMMARY:School Committee Executive Session - REMOTE MEETING ONLINE
URL;VALUE=URI:https://www.norwood.k12.ma.us/sc/calendar/2844998/school-comm
 ittee-executive-session-remote-meeting-online
DTSTART:20211027T223000Z
DTEND:20211027T230000Z
END:VEVENT
END:VCALENDAR
