BEGIN:VCALENDAR
VERSION:2.0
PRODID:SchoolNow
CALSCALE:GREGORIAN
BEGIN:VEVENT
UID:7fb2a100-3b0d-11ec-8258-0a7d056a360d
DTSTAMP:20211101T121610Z
SUMMARY:Middle School Public Forum - REMOTE MEETING ONLINE
URL;VALUE=URI:https://www.norwood.k12.ma.us/sc/calendar/2859419/middle-scho
 ol-public-forum-remote-meeting-online
DTSTART:20211101T230000Z
DTEND:20211102T000000Z
END:VEVENT
END:VCALENDAR
