BEGIN:VCALENDAR
VERSION:2.0
PRODID:SchoolNow
CALSCALE:GREGORIAN
BEGIN:VEVENT
UID:bd04662e-3bd5-11ec-84c7-0abf58b2f50d
DTSTAMP:20211102T120932Z
SUMMARY:Middle School Public Forum - REMOTE MEETING ONLINE
URL;VALUE=URI:https://www.norwood.k12.ma.us/sc/calendar/2862708/middle-scho
 ol-public-forum-remote-meeting-online
DTSTART:20211217T000000Z
DTEND:20211217T010000Z
END:VEVENT
END:VCALENDAR
