BEGIN:VCALENDAR
VERSION:2.0
PRODID:SchoolNow
CALSCALE:GREGORIAN
BEGIN:VEVENT
UID:4c13b5da-4b95-11ec-bebc-0eadf0348099
DTSTAMP:20211122T130834Z
SUMMARY:School Committee Budget Sub Committee Meeting - REMOTE MEETING ONLI
 NE
URL;VALUE=URI:https://www.norwood.k12.ma.us/sc/calendar/2906797/school-comm
 ittee-budget-sub-committee-meeting-remote-meeting-online
DTSTART:20211213T170000Z
DTEND:20211213T180000Z
END:VEVENT
END:VCALENDAR
