BEGIN:VCALENDAR
VERSION:2.0
PRODID:SchoolNow
CALSCALE:GREGORIAN
BEGIN:VEVENT
UID:5f5a5fae-4b95-11ec-8d0b-0eadf0348099
DTSTAMP:20211122T130906Z
SUMMARY:School Committee Budget Sub Committee Meeting - REMOTE MEETING ONLI
 NE
URL;VALUE=URI:https://www.norwood.k12.ma.us/sc/calendar/2906799/school-comm
 ittee-budget-sub-committee-meeting-remote-meeting-online
DTSTART:20220202T190000Z
DTEND:20220202T200000Z
END:VEVENT
END:VCALENDAR
