BEGIN:VCALENDAR
VERSION:2.0
PRODID:SchoolNow
CALSCALE:GREGORIAN
BEGIN:VEVENT
UID:e67f7692-576e-11ec-8346-025e75a739ef
DTSTAMP:20211207T150356Z
SUMMARY:School Committee Policy Sub Committee Meeting - REMOTE MEETING ONLI
 NE
URL;VALUE=URI:https://www.norwood.k12.ma.us/sc/calendar/2936867/school-comm
 ittee-policy-sub-committee-meeting-remote-meeting-online
DTSTART:20211209T160000Z
DTEND:20211209T170000Z
END:VEVENT
END:VCALENDAR
