BEGIN:VCALENDAR
VERSION:2.0
PRODID:SchoolNow
CALSCALE:GREGORIAN
BEGIN:VEVENT
UID:57ef4c50-6c99-11ec-87be-02b230c5425b
DTSTAMP:20220103T133040Z
SUMMARY:School Committee Policy Sub Committee Meeting - REMOTE MEETING ONLI
 NE
URL;VALUE=URI:https://www.norwood.k12.ma.us/sc/calendar/3028677/school-comm
 ittee-policy-sub-committee-meeting-remote-meeting-online
DTSTART:20220107T160000Z
DTEND:20220107T170000Z
END:VEVENT
END:VCALENDAR
