BEGIN:VCALENDAR
VERSION:2.0
PRODID:SchoolNow
CALSCALE:GREGORIAN
BEGIN:VEVENT
UID:6871998a-7472-11ec-9c93-0e3399019e91
DTSTAMP:20220113T131206Z
SUMMARY:Middle School Public Forum - REMOTE MEETING ONLINE
URL;VALUE=URI:https://www.norwood.k12.ma.us/sc/calendar/3073522/middle-scho
 ol-public-forum-remote-meeting-online
DTSTART:20220218T000000Z
DTEND:20220218T010000Z
END:VEVENT
END:VCALENDAR
