BEGIN:VCALENDAR
VERSION:2.0
PRODID:SchoolNow
CALSCALE:GREGORIAN
BEGIN:VEVENT
UID:85a39666-7472-11ec-8393-0e3399019e91
DTSTAMP:20220302T185323Z
SUMMARY:Middle School Public Forum - IN PERSON at Coakley Middle School
URL;VALUE=URI:https://www.norwood.k12.ma.us/sc/calendar/3073524/middle-scho
 ol-public-forum-remote-meeting-online
DTSTART:20220308T000000Z
DTEND:20220308T010000Z
END:VEVENT
END:VCALENDAR
