BEGIN:VCALENDAR
VERSION:2.0
PRODID:SchoolNow
CALSCALE:GREGORIAN
BEGIN:VEVENT
UID:9a16e9ea-7472-11ec-965f-0e3399019e91
DTSTAMP:20220113T131330Z
SUMMARY:Middle School Public Forum - REMOTE MEETING ONLINE
URL;VALUE=URI:https://www.norwood.k12.ma.us/sc/calendar/3073526/middle-scho
 ol-public-forum-remote-meeting-online
DTSTART:20220324T230000Z
DTEND:20220325T000000Z
END:VEVENT
END:VCALENDAR
