BEGIN:VCALENDAR
VERSION:2.0
PRODID:SchoolNow
CALSCALE:GREGORIAN
BEGIN:VEVENT
UID:367383a2-753b-11ec-8d95-0af72bda1c2b
DTSTAMP:20220114T130931Z
SUMMARY:School Committee Policy Sub Committee Meeting - REMOTE MEETING ONLI
 NE
URL;VALUE=URI:https://www.norwood.k12.ma.us/sc/calendar/3074716/school-comm
 ittee-policy-sub-committee-meeting-remote-meeting-online
DTSTART:20220131T173000Z
DTEND:20220131T183000Z
END:VEVENT
END:VCALENDAR
