BEGIN:VCALENDAR
VERSION:2.0
PRODID:SchoolNow
CALSCALE:GREGORIAN
BEGIN:VEVENT
UID:aecb374c-7927-11ec-a845-0a36944b824d
DTSTAMP:20220119T125948Z
SUMMARY:School Committee Policy Sub Committee Meeting - REMOTE MEETING ONLI
 NE
URL;VALUE=URI:https://www.norwood.k12.ma.us/sc/calendar/3077753/school-comm
 ittee-policy-sub-committee-meeting-remote-meeting-online
DTSTART:20220209T153000Z
DTEND:20220209T163000Z
END:VEVENT
END:VCALENDAR
