BEGIN:VCALENDAR
VERSION:2.0
PRODID:SchoolNow
CALSCALE:GREGORIAN
BEGIN:VEVENT
UID:6bdd94cc-8816-11ec-93ae-0a5e86dd4cc5
DTSTAMP:20220207T130402Z
SUMMARY:School Committee Budget Sub Committee Meeting - REMOTE MEETING ONLI
 NE
URL;VALUE=URI:https://www.norwood.k12.ma.us/sc/calendar/3094298/school-comm
 ittee-budget-sub-committee-meeting-remote-meeting-online
DTSTART:20220209T180000Z
DTEND:20220209T190000Z
END:VEVENT
END:VCALENDAR
