BEGIN:VCALENDAR
VERSION:2.0
PRODID:SchoolNow
CALSCALE:GREGORIAN
BEGIN:VEVENT
UID:80a55d40-8816-11ec-b213-0a5e86dd4cc5
DTSTAMP:20220207T130437Z
SUMMARY:School Committee Budget Sub Committee Meeting - REMOTE MEETING ONLI
 NE
URL;VALUE=URI:https://www.norwood.k12.ma.us/sc/calendar/3094300/school-comm
 ittee-budget-sub-committee-meeting-remote-meeting-online
DTSTART:20220302T200000Z
DTEND:20220302T210000Z
END:VEVENT
END:VCALENDAR
