BEGIN:VCALENDAR
VERSION:2.0
PRODID:SchoolNow
CALSCALE:GREGORIAN
BEGIN:VEVENT
UID:90076c1a-8816-11ec-b1ba-0a5e86dd4cc5
DTSTAMP:20220207T130502Z
SUMMARY:School Committee Budget Sub Committee Meeting - REMOTE MEETING ONLI
 NE
URL;VALUE=URI:https://www.norwood.k12.ma.us/sc/calendar/3094302/school-comm
 ittee-budget-sub-committee-meeting-remote-meeting-online
DTSTART:20220309T170000Z
DTEND:20220309T180000Z
END:VEVENT
END:VCALENDAR
