BEGIN:VCALENDAR
VERSION:2.0
PRODID:SchoolNow
CALSCALE:GREGORIAN
BEGIN:VEVENT
UID:ca39e58e-8816-11ec-856c-0a5e86dd4cc5
DTSTAMP:20220207T130640Z
SUMMARY:School Committee Executive Session - REMOTE MEETING ONLINE
URL;VALUE=URI:https://www.norwood.k12.ma.us/sc/calendar/3094304/school-comm
 ittee-executive-session-remote-meeting-online
DTSTART:20220209T233000Z
DTEND:20220210T000000Z
END:VEVENT
END:VCALENDAR
