BEGIN:VCALENDAR
VERSION:2.0
PRODID:SchoolNow
CALSCALE:GREGORIAN
BEGIN:VEVENT
UID:3c4a37ca-98a0-11ec-a26f-0e1d204b0323
DTSTAMP:20220228T141051Z
SUMMARY:School Committee Policy Sub Committee Meeting - REMOTE MEETING ONLI
 NE
URL;VALUE=URI:https://www.norwood.k12.ma.us/sc/calendar/3118684/school-comm
 ittee-policy-sub-committee-meeting-remote-meeting-online
DTSTART:20220317T170000Z
DTEND:20220317T180000Z
END:VEVENT
END:VCALENDAR
