BEGIN:VCALENDAR
VERSION:2.0
PRODID:SchoolNow
CALSCALE:GREGORIAN
BEGIN:VEVENT
UID:52b91940-98a0-11ec-902e-0e1d204b0323
DTSTAMP:20220310T155209Z
SUMMARY:School Committee Meeting - Hybrid Meeting/In Person at Savage Cente
 r - see Schedule page for details
URL;VALUE=URI:https://www.norwood.k12.ma.us/sc/calendar/3118686/school-comm
 ittee-meeting-remote-meeting-online
DTSTART:20220330T230000Z
DTEND:20220331T000000Z
END:VEVENT
END:VCALENDAR
