BEGIN:VCALENDAR
VERSION:2.0
PRODID:SchoolNow
CALSCALE:GREGORIAN
BEGIN:VEVENT
UID:c5cbfa02-9e3f-11ec-8688-0a8dc1fc2f01
DTSTAMP:20220307T175549Z
SUMMARY:School Committee Policy Sub Committee Meeting - REMOTE MEETING ONLI
 NE
URL;VALUE=URI:https://www.norwood.k12.ma.us/sc/calendar/3126528/school-comm
 ittee-policy-sub-committee-meeting-remote-meeting-online
DTSTART:20220310T150000Z
DTEND:20220310T160000Z
END:VEVENT
END:VCALENDAR
