BEGIN:VCALENDAR
VERSION:2.0
PRODID:SchoolNow
CALSCALE:GREGORIAN
BEGIN:VEVENT
UID:a8ff1afc-b669-11ec-a8b4-02ab557419af
DTSTAMP:20220407T115546Z
SUMMARY:School Committee Budget Sub Committee Meeting - REMOTE MEETING ONLI
 NE - See schedule page for details
URL;VALUE=URI:https://www.norwood.k12.ma.us/sc/calendar/3157955/school-comm
 ittee-budget-sub-committee-meeting-remote-meeting-online-see-schedule-page
 -for-details
DTSTART:20220411T150000Z
DTEND:20220411T160000Z
END:VEVENT
END:VCALENDAR
