BEGIN:VCALENDAR
VERSION:2.0
PRODID:SchoolNow
CALSCALE:GREGORIAN
BEGIN:VEVENT
UID:c439a0c6-b669-11ec-852d-02ab557419af
DTSTAMP:20220407T115632Z
SUMMARY:School Committee Policy Sub Committee Meeting - REMOTE MEETING ONLI
 NE - see Schedule page for details
URL;VALUE=URI:https://www.norwood.k12.ma.us/sc/calendar/3157957/school-comm
 ittee-policy-sub-committee-meeting-remote-meeting-online-see-schedule-page
 -for-details
DTSTART:20220411T163000Z
DTEND:20220411T173000Z
END:VEVENT
END:VCALENDAR
