BEGIN:VCALENDAR
VERSION:2.0
PRODID:SchoolNow
CALSCALE:GREGORIAN
BEGIN:VEVENT
UID:73b987be-b98f-11ec-b130-02f65ead5449
DTSTAMP:20220411T120351Z
SUMMARY:School Committee Policy Sub Committee Meeting - REMOTE MEETING ONLI
 NE - See Schedule page for details
URL;VALUE=URI:https://www.norwood.k12.ma.us/sc/calendar/3165305/school-comm
 ittee-policy-sub-committee-meeting-remote-meeting-online-see-schedule-page
 -for-details
DTSTART:20220427T173000Z
DTEND:20220427T183000Z
END:VEVENT
END:VCALENDAR
