BEGIN:VCALENDAR
VERSION:2.0
PRODID:SchoolNow
CALSCALE:GREGORIAN
BEGIN:VEVENT
UID:702f2ed6-c0b1-11ec-a24f-0241255cb63b
DTSTAMP:20220420T135446Z
SUMMARY:MASC Training Session - Savage Center
URL;VALUE=URI:https://www.norwood.k12.ma.us/sc/calendar/3176200/masc-traini
 ng-session-savage-center
DTSTART:20220510T223000Z
DTEND:20220510T233000Z
END:VEVENT
END:VCALENDAR
