BEGIN:VCALENDAR
VERSION:2.0
PRODID:SchoolNow
CALSCALE:GREGORIAN
BEGIN:VEVENT
UID:5c50cfa2-c4a6-11ec-89de-02e475a130b1
DTSTAMP:20220425T144533Z
SUMMARY:School Committee Meeting - Hybrid Meeting/In Person at Savage Cente
 r - see Schedule page for details
URL;VALUE=URI:https://www.norwood.k12.ma.us/sc/calendar/3180808/school-comm
 ittee-meeting-hybrid-meeting-in-person-at-savage-center-see-schedule-page-
 for-details
DTSTART:20220914T230000Z
DTEND:20220915T000000Z
END:VEVENT
END:VCALENDAR
