BEGIN:VCALENDAR
VERSION:2.0
PRODID:SchoolNow
CALSCALE:GREGORIAN
BEGIN:VEVENT
UID:bc658afe-c4a6-11ec-a58a-02e475a130b1
DTSTAMP:20230123T171803Z
SUMMARY:School Committee Meeting - Hybrid Meeting/In Person at Balch Elemen
 tary School - see Schedule page for details
URL;VALUE=URI:https://www.norwood.k12.ma.us/sc/calendar/3180816/school-comm
 ittee-meeting-hybrid-meeting-in-person-at-savage-center-see-schedule-page-
 for-details
DTSTART:20230126T000000Z
DTEND:20230126T010000Z
END:VEVENT
END:VCALENDAR
