BEGIN:VCALENDAR
VERSION:2.0
PRODID:SchoolNow
CALSCALE:GREGORIAN
BEGIN:VEVENT
UID:c71de568-c4a6-11ec-8429-02e475a130b1
DTSTAMP:20230206T165848Z
SUMMARY:School Committee Meeting - REMOTE MEETING ONLINE - see Schedule pag
 e for details
URL;VALUE=URI:https://www.norwood.k12.ma.us/sc/calendar/3180817/school-comm
 ittee-meeting-hybrid-meeting-in-person-at-savage-center-see-schedule-page-
 for-details
DTSTART:20230209T000000Z
DTEND:20230209T010000Z
END:VEVENT
END:VCALENDAR
