BEGIN:VCALENDAR
VERSION:2.0
PRODID:SchoolNow
CALSCALE:GREGORIAN
BEGIN:VEVENT
UID:fa80641c-c4a6-11ec-a3c3-02e475a130b1
DTSTAMP:20221003T121222Z
SUMMARY:School Committee Meeting - Hybrid Meeting/In Person at Callahan Ele
 mentary School - see Schedule page for details
URL;VALUE=URI:https://www.norwood.k12.ma.us/sc/calendar/3180822/school-comm
 ittee-meeting-hybrid-meeting-in-person-at-savage-center-see-schedule-page-
 for-details
DTSTART:20230412T230000Z
DTEND:20230413T000000Z
END:VEVENT
END:VCALENDAR
