BEGIN:VCALENDAR
VERSION:2.0
PRODID:SchoolNow
CALSCALE:GREGORIAN
BEGIN:VEVENT
UID:1de1996c-c4a7-11ec-a04b-02e475a130b1
DTSTAMP:20220425T145058Z
SUMMARY:School Committee Meeting - Hybrid Meeting/In Person at Savage Cente
 r - see Schedule page for details
URL;VALUE=URI:https://www.norwood.k12.ma.us/sc/calendar/3180825/school-comm
 ittee-meeting-hybrid-meeting-in-person-at-savage-center-see-schedule-page-
 for-details
DTSTART:20230607T230000Z
DTEND:20230608T000000Z
END:VEVENT
END:VCALENDAR
